BEGIN:VCALENDAR
VERSION:2.0
PRODID:-//ChamberMaster//Event Calendar 2.0//EN
METHOD:PUBLISH
X-PUBLISHED-TTL:P3D
REFRESH-INTERVAL:P3D
CALSCALE:GREGORIAN
BEGIN:VEVENT
DTSTART:20261119T170000Z
DTEND:20261119T190000Z
X-MICROSOFT-CDO-ALLDAYEVENT:FALSE
SUMMARY:Networking Luncheon
DESCRIPTION:DETAILS TO FOLLOW
X-ALT-DESC;FMTTYPE=text/html:<div style="text-align: center\;"><span style="font-size: 20px\;">DETAILS TO FOLLOW</span></div>\n
LOCATION:Minny's Bar and Grill
UID:e.2227.2962
SEQUENCE:3
DTSTAMP:20260421T051557Z
URL:http://nhpchamber.chambermaster.com/events/details/networking-luncheon-2962
END:VEVENT

END:VCALENDAR
